{
 "currentVersion": 10.71,
 "serviceDescription": "This is the Imagery Service for HillShades in Rhode Island 2023. Created by RIDEM",
 "name": "RIDEM/IMG_HillShades",
 "description": "This is the Imagery Service for HillShades in Rhode Island 2023. Created by RIDEM",
 "extent": {
  "xmin": 211045.37482862896,
  "ymin": 20029.55599952425,
  "xmax": 438909.09232792817,
  "ymax": 347486.2501651839,
  "spatialReference": {
   "wkid": 102730,
   "latestWkid": 3438
  }
 },
 "initialExtent": {
  "xmin": 211045.37482862896,
  "ymin": 20029.55599952425,
  "xmax": 438909.09232792817,
  "ymax": 347486.2501651839,
  "spatialReference": {
   "wkid": 102730,
   "latestWkid": 3438
  }
 },
 "fullExtent": {
  "xmin": 211045.37482862896,
  "ymin": 20029.55599952425,
  "xmax": 438909.09232792817,
  "ymax": 347486.2501651839,
  "spatialReference": {
   "wkid": 102730,
   "latestWkid": 3438
  }
 },
 "pixelSizeX": 3.280833333323243,
 "pixelSizeY": 3.280833333323244,
 "bandCount": 1,
 "pixelType": "U8",
 "minPixelSize": 0,
 "maxPixelSize": 0,
 "copyrightText": "RIDEM RISEGIS",
 "serviceDataType": "esriImageServiceDataTypeGeneric",
 "minValues": [
  0
 ],
 "maxValues": [
  254
 ],
 "meanValues": [
  178.2196451228292
 ],
 "stdvValues": [
  14.26981306360694
 ],
 "objectIdField": "",
 "fields": [],
 "capabilities": "Mensuration,Image,Metadata",
 "defaultMosaicMethod": "Center",
 "allowedMosaicMethods": "",
 "sortField": "",
 "sortValue": null,
 "mosaicOperator": "First",
 "defaultCompressionQuality": 75,
 "defaultResamplingMethod": "Bilinear",
 "maxImageHeight": 4100,
 "maxImageWidth": 15000,
 "allowRasterFunction": true,
 "rasterFunctionInfos": [
  {
   "name": "None",
   "description": "",
   "help": ""
  }
 ],
 "rasterTypeInfos": [
  {
   "name": "Raster Dataset",
   "description": "Supports all ArcGIS Raster Datasets",
   "help": ""
  }
 ],
 "mensurationCapabilities": "Basic",
 "hasHistograms": true,
 "hasColormap": false,
 "hasRasterAttributeTable": true,
 "minScale": 0,
 "maxScale": 0,
 "exportTilesAllowed": false,
 "hasMultidimensions": false,
 "supportsStatistics": false,
 "supportsAdvancedQueries": false,
 "editFieldsInfo": null,
 "ownershipBasedAccessControlForRasters": null,
 "allowComputeTiePoints": false,
 "useStandardizedQueries": true,
 "advancedQueryCapabilities": {
  "useStandardizedQueries": true,
  "supportsStatistics": false,
  "supportsOrderBy": false,
  "supportsDistinct": false,
  "supportsPagination": false
 },
 "spatialReference": {
  "wkid": 102730,
  "latestWkid": 3438
 }
}
