<?xml version="1.0" encoding="UTF-8" standalone="no"?>
<metadata xml:lang="en">
<Esri>
<CreaDate>20210922</CreaDate>
<CreaTime>10515200</CreaTime>
<ArcGISFormat>1.0</ArcGISFormat>
<ArcGISstyle>FGDC CSDGM Metadata</ArcGISstyle>
<SyncOnce>FALSE</SyncOnce>
<DataProperties>
<itemProps>
<itemName Sync="TRUE">impervious_complete</itemName>
<nativeExtBox>
<westBL Sync="TRUE">220000.000000</westBL>
<eastBL Sync="TRUE">434592.000000</eastBL>
<southBL Sync="TRUE">23047.995586</southBL>
<northBL Sync="TRUE">343507.995586</northBL>
<exTypeCode Sync="TRUE">1</exTypeCode>
</nativeExtBox>
<imsContentType Sync="TRUE">002</imsContentType>
</itemProps>
<coordRef>
<type Sync="TRUE">Projected</type>
<geogcsn Sync="TRUE">GCS_North_American_1983</geogcsn>
<csUnits Sync="TRUE">Linear Unit: Foot_US (0.304801)</csUnits>
<projcsn Sync="TRUE">North_American_1983_Transverse_Mercator</projcsn>
<peXml Sync="TRUE">&lt;ProjectedCoordinateSystem xsi:type='typens:ProjectedCoordinateSystem' xmlns:xsi='http://www.w3.org/2001/XMLSchema-instance' xmlns:xs='http://www.w3.org/2001/XMLSchema' xmlns:typens='http://www.esri.com/schemas/ArcGIS/10.3'&gt;&lt;WKT&gt;PROJCS[&amp;quot;North_American_1983_Transverse_Mercator&amp;quot;,GEOGCS[&amp;quot;GCS_North_American_1983&amp;quot;,DATUM[&amp;quot;D_North_American_1983&amp;quot;,SPHEROID[&amp;quot;GRS_1980&amp;quot;,6378137.0,298.257222101]],PRIMEM[&amp;quot;Greenwich&amp;quot;,0.0],UNIT[&amp;quot;Degree&amp;quot;,0.0174532925199433]],PROJECTION[&amp;quot;Transverse_Mercator&amp;quot;],PARAMETER[&amp;quot;false_easting&amp;quot;,328083.3333],PARAMETER[&amp;quot;false_northing&amp;quot;,0.0],PARAMETER[&amp;quot;central_meridian&amp;quot;,-71.5],PARAMETER[&amp;quot;scale_factor&amp;quot;,0.99999375],PARAMETER[&amp;quot;latitude_of_origin&amp;quot;,41.0833333333333],UNIT[&amp;quot;Foot_US&amp;quot;,0.3048006096012192]]&lt;/WKT&gt;&lt;XOrigin&gt;-18120300&lt;/XOrigin&gt;&lt;YOrigin&gt;-47742100&lt;/YOrigin&gt;&lt;XYScale&gt;137242312.64623272&lt;/XYScale&gt;&lt;ZOrigin&gt;-100000&lt;/ZOrigin&gt;&lt;ZScale&gt;10000&lt;/ZScale&gt;&lt;MOrigin&gt;-100000&lt;/MOrigin&gt;&lt;MScale&gt;10000&lt;/MScale&gt;&lt;XYTolerance&gt;0.0032808333333333331&lt;/XYTolerance&gt;&lt;ZTolerance&gt;0.001&lt;/ZTolerance&gt;&lt;MTolerance&gt;0.001&lt;/MTolerance&gt;&lt;HighPrecision&gt;true&lt;/HighPrecision&gt;&lt;/ProjectedCoordinateSystem&gt;</peXml>
</coordRef>
<RasterProperties>
<General>
<PixelDepth Sync="TRUE">32</PixelDepth>
<HasColormap Sync="TRUE">FALSE</HasColormap>
<CompressionType Sync="TRUE">LZW</CompressionType>
<NumBands Sync="TRUE">1</NumBands>
<Format Sync="TRUE">TIFF</Format>
<HasPyramids Sync="TRUE">TRUE</HasPyramids>
<SourceType Sync="TRUE">continuous</SourceType>
<PixelType Sync="TRUE">floating point</PixelType>
<NoDataValue Sync="TRUE">-3.4028231e+038</NoDataValue>
</General>
</RasterProperties>
</DataProperties>
<SyncDate>20210927</SyncDate>
<SyncTime>12183800</SyncTime>
<ModDate>20210927</ModDate>
<ModTime>12183800</ModTime>
<scaleRange>
<minScale>500000</minScale>
<maxScale>5000</maxScale>
</scaleRange>
<ArcGISProfile>FGDC</ArcGISProfile>
</Esri>
<mdChar>
<CharSetCd value="004">
</CharSetCd>
</mdChar>
<mdContact>
<rpIndName>Tim Marcella </rpIndName>
<rpOrgName>NV5 Geospatial</rpOrgName>
<rpPosName>Program Manager</rpPosName>
<role>
<RoleCd value="010">
</RoleCd>
</role>
<rpCntInfo>
<cntAddress addressType="both">
<delPoint>1100 NE Circle Blvd #126</delPoint>
<city>Corvallis</city>
<adminArea>Oregon</adminArea>
<postCode>97330</postCode>
<country>US</country>
</cntAddress>
<cntPhone>
<voiceNum>541-752-1204</voiceNum>
</cntPhone>
<cntHours>0800 to 1700 PST</cntHours>
</rpCntInfo>
<displayName>Tim Marcella </displayName>
</mdContact>
<dataIdInfo>
<idCitation>
<citRespParty>
<rpIndName>Tim Marcella </rpIndName>
<rpOrgName>NV5 Geospatial</rpOrgName>
<rpPosName>Program Manager</rpPosName>
<role>
<RoleCd value="006">
</RoleCd>
</role>
<rpCntInfo>
<cntAddress addressType="both">
<delPoint>1100 NE Circle Blvd #126</delPoint>
<city>Corvallis</city>
<adminArea>Oregon</adminArea>
<postCode>97330</postCode>
<country>US</country>
</cntAddress>
<cntPhone>
<voiceNum>541-752-1204</voiceNum>
</cntPhone>
<cntHours>0800 to 1700 PST</cntHours>
</rpCntInfo>
<displayName>Tim Marcella </displayName>
</citRespParty>
<date>
<createDate>2021-05-20T00:00:00</createDate>
<pubDate>2021-05-21T00:00:00</pubDate>
</date>
<resTitle Sync="TRUE">impervious_complete</resTitle>
<presForm>
<PresFormCd Sync="TRUE" value="011">
</PresFormCd>
</presForm>
</idCitation>
<dataExt>
<exDesc>The source data for this analysis will be the Statewide spring 2020 leaf-off 4-band, 6-inch orthoimagery collected under this scope of work.</exDesc>
<tempEle>
<TempExtent>
<exTemp>
<TM_Period>
<tmBegin>2020-01-01T00:00:00</tmBegin>
<tmEnd>2020-12-31T00:00:00</tmEnd>
</TM_Period>
</exTemp>
</TempExtent>
</tempEle>
</dataExt>
<idPurp>Update 2011 impervious surface raster based on acquired 2020 orthoimagery</idPurp>
<idAbs>Task Overview: NV5 Geospatial updated the Rhode Island impervious data layer through semi-automated methods similar to that developed for the 2011 impervious layer and as accepted by RI Statewide Planning/RI GIS. Update methods used Rhode Island spring 2020, 4-band, 6-inch pixel orthophotography. The State of Rhode Island determined that only real changes between the 2011 and 2020 imagery should be mapped. Errors in the data set were not corrected (unless they were directly associated with a real change) as this would skew change analysis. The minimum mapping unit used for this data layer was 800 square feet. The update process began by creating a machine learning model based on the 2011 impervious data layer. The model was trained on Rhode Island spring 2011, 4-band, 6-inch pixel orthophotography and 2011 2 feet pixel impervious data layer. The machine model is a modified UNET convolutional neural network model. After the machine learning model was trained using 400,000 examples the model was applied to the 2020, 4-band, 6-inch pixel orthophotography. Then changes were detected between the 2011 impervious data layer and the 2020 impervious data layer using a semi-automated process. The changed area was then inspected by a photo interpreter to ensure greater than 95% accuracy and proper look and feel of the data. After the changed area was inspected it was then used to update the 2011 impervious data layer. Areas that were unchanged have not been modified. Validation Overview: For Blocks 1-5, a total of 2500 points were sampled. Of these 2500 points, 50 percent were constrained to fall within polygons defined as having change present, 25 percent near change, and 25 percent in areas where change was not detected. Change is defined as polygons that recieved a classification change and does not include polygons that only received geometric editing during the update process. Points selected "near change" were constrained to fall within a 1,000 foot buffer adjacent to the change polygons. Points selected in unchanged areas were constrained to any area outside of where change was detected. The accuracy analysis was completed using QGIS v3.4.13. Accuracy assesment points were selected by first exporting each stratification layer as a distinct shapefile. Random points within each stratum were generated using a custom tool written in the R programming language. Each point was assessed for classification or change/no change against the finalized dataset compiled for each Block. The classification information was stripped from this dataset to ensure an unbiased assesment. </idAbs>
<idPoC>
<rpIndName>Tim Marcella </rpIndName>
<rpOrgName>NV5 Geospatial</rpOrgName>
<rpPosName>Program Manager</rpPosName>
<role>
<RoleCd value="007">
</RoleCd>
</role>
<rpCntInfo>
<cntAddress addressType="both">
<delPoint>1100 NE Circle Blvd #126</delPoint>
<city>Corvallis</city>
<adminArea>Oregon</adminArea>
<postCode>97330</postCode>
<country>US</country>
</cntAddress>
<cntPhone>
<voiceNum>541-752-1204</voiceNum>
</cntPhone>
<cntHours>0800 to 1700 PST</cntHours>
</rpCntInfo>
</idPoC>
<dataChar>
<CharSetCd value="004">
</CharSetCd>
</dataChar>
<themeKeys>
<keyword>Land Cover, Land Use, Anderson Classification</keyword>
</themeKeys>
<placeKeys>
<keyword>US, Rhode Island, New England, Northeast,</keyword>
</placeKeys>
<idStatus>
<ProgCd value="004">
</ProgCd>
</idStatus>
<resMaint>
<maintFreq>
<MaintFreqCd value="009">
</MaintFreqCd>
</maintFreq>
</resMaint>
<searchKeys>
<keyword>Impervious</keyword>
<keyword>Land Cover</keyword>
<keyword>Rhode Island</keyword>
<keyword>Environment</keyword>
</searchKeys>
<idCredit>RI Department of Administration, Division of Statewide Planning; USGS, University of Rhode Island</idCredit>
<placeKeys>
<keyword>Rhode Island Department of Environmental Management, Paul Jordan, Supervising GIS Specialist, 235 Promenade Street, Providence, RI 02908, (401)222-2776x4315, paul.jordan@dem.ri.gov</keyword>
</placeKeys>
<envirDesc Sync="TRUE"> Version 6.2 (Build 9200) ; Esri ArcGIS 10.3.1.4959</envirDesc>
<dataLang>
<languageCode Sync="TRUE" value="eng">
</languageCode>
<countryCode Sync="TRUE" value="USA">
</countryCode>
</dataLang>
<spatRpType>
<SpatRepTypCd Sync="TRUE" value="002">
</SpatRepTypCd>
</spatRpType>
<dataExt>
<geoEle>
<GeoBndBox esriExtentType="search">
<exTypeCode Sync="TRUE">1</exTypeCode>
<westBL Sync="TRUE">-71.897789</westBL>
<eastBL Sync="TRUE">-71.108006</eastBL>
<northBL Sync="TRUE">42.026046</northBL>
<southBL Sync="TRUE">41.145922</southBL>
</GeoBndBox>
</geoEle>
</dataExt>
<tpCat>
<TopicCatCd value="007">
</TopicCatCd>
</tpCat>
<tpCat>
<TopicCatCd value="015">
</TopicCatCd>
</tpCat>
<resConst>
<Consts>
<useLimit>OPEN</useLimit>
</Consts>
</resConst>
</dataIdInfo>
<mdMaint>
<maintFreq>
<MaintFreqCd value="009">
</MaintFreqCd>
</maintFreq>
</mdMaint>
<dqInfo>
<dqScope>
<scpLvl>
<ScopeCd value="005">
</ScopeCd>
</scpLvl>
</dqScope>
</dqInfo>
<mdLang>
<languageCode Sync="TRUE" value="eng">
</languageCode>
<countryCode Sync="TRUE" value="USA">
</countryCode>
</mdLang>
<distInfo>
<distFormat>
<formatName Sync="TRUE">File Geodatabase Raster Dataset</formatName>
</distFormat>
</distInfo>
<mdHrLv>
<ScopeCd Sync="TRUE" value="005">
</ScopeCd>
</mdHrLv>
<mdHrLvName Sync="TRUE">dataset</mdHrLvName>
<refSysInfo>
<RefSystem>
<refSysID>
<identCode Sync="TRUE" code="0">
</identCode>
</refSysID>
</RefSystem>
</refSysInfo>
<spdoinfo>
<rastinfo>
<rasttype Sync="TRUE">Pixel</rasttype>
<rowcount Sync="TRUE">160230</rowcount>
<colcount Sync="TRUE">107296</colcount>
<rastxsz Sync="TRUE">2.000000</rastxsz>
<rastysz Sync="TRUE">2.000000</rastysz>
<rastbpp Sync="TRUE">32</rastbpp>
<vrtcount Sync="TRUE">1</vrtcount>
<rastorig Sync="TRUE">Upper Left</rastorig>
<rastcmap Sync="TRUE">FALSE</rastcmap>
<rastcomp Sync="TRUE">LZ77</rastcomp>
<rastband Sync="TRUE">1</rastband>
<rastdtyp Sync="TRUE">pixel codes</rastdtyp>
<rastifor Sync="TRUE">FGDBR</rastifor>
<rastplyr Sync="TRUE">TRUE</rastplyr>
</rastinfo>
</spdoinfo>
<spref>
<horizsys>
<planar>
<planci>
<plance Sync="TRUE">row and column</plance>
<coordrep>
<absres Sync="TRUE">2.000000</absres>
<ordres Sync="TRUE">2.000000</ordres>
</coordrep>
</planci>
</planar>
</horizsys>
</spref>
<mdDateSt Sync="TRUE">20210927</mdDateSt>
<spatRepInfo>
<Georect>
<cellGeo>
<CellGeoCd Sync="TRUE" value="002">
</CellGeoCd>
</cellGeo>
<numDims Sync="TRUE">2</numDims>
<tranParaAv Sync="TRUE">1</tranParaAv>
<chkPtAv Sync="TRUE">0</chkPtAv>
<cornerPts>
<pos Sync="TRUE">220000.000000 23047.995586</pos>
</cornerPts>
<cornerPts>
<pos Sync="TRUE">220000.000000 343507.995586</pos>
</cornerPts>
<cornerPts>
<pos Sync="TRUE">434592.000000 343507.995586</pos>
</cornerPts>
<cornerPts>
<pos Sync="TRUE">434592.000000 23047.995586</pos>
</cornerPts>
<centerPt>
<pos Sync="TRUE">327296.000000 183277.995586</pos>
</centerPt>
<axisDimension type="002">
<dimSize Sync="TRUE">107296</dimSize>
<dimResol>
<value Sync="TRUE">2.000000</value>
</dimResol>
</axisDimension>
<axisDimension type="001">
<dimSize Sync="TRUE">160230</dimSize>
<dimResol>
<value Sync="TRUE">2.000000</value>
</dimResol>
</axisDimension>
<ptInPixel>
<PixOrientCd Sync="TRUE" value="001">
</PixOrientCd>
</ptInPixel>
</Georect>
</spatRepInfo>
<contInfo>
<ImgDesc>
<contentTyp>
<ContentTypCd Sync="TRUE" value="001">
</ContentTypCd>
</contentTyp>
<covDim>
<Band>
<dimDescrp Sync="TRUE">Band_1</dimDescrp>
<bitsPerVal Sync="TRUE">32</bitsPerVal>
</Band>
</covDim>
</ImgDesc>
</contInfo>
</metadata>
