{
 "currentVersion": 10.71,
 "serviceDescription": "Task Overview: NV5 Geospatial updated the Rhode Island impervious data layer through semi-automated methods similar to that developed for the 2011 impervious layer and as accepted by RI Statewide Planning/RI GIS. Update methods used Rhode Island spring 2020, 4-band, 6-inch pixel orthophotography. The State of Rhode Island determined that only real changes between the 2011 and 2020 imagery should be mapped. Errors in the data set were not corrected (unless they were directly associated with a real change) as this would skew change analysis. The minimum mapping unit used for this data layer was 800 square feet. The update process began by creating a machine learning model based on the 2011 impervious data layer. The model was trained on Rhode Island spring 2011, 4-band, 6-inch pixel orthophotography and 2011 2 feet pixel impervious data layer. The machine model is a modified UNET convolutional neural network model. After the machine learning model was trained using 400,000 examples the model was applied to the 2020, 4-band, 6-inch pixel orthophotography. Then changes were detected between the 2011 impervious data layer and the 2020 impervious data layer using a semi-automated process. The changed area was then inspected by a photo interpreter to ensure greater than 95% accuracy and proper look and feel of the data. After the changed area was inspected it was then used to update the 2011 impervious data layer. Areas that were unchanged have not been modified. Validation Overview: For Blocks 1-5, a total of 2500 points were sampled. Of these 2500 points, 50 percent were constrained to fall within polygons defined as having change present, 25 percent near change, and 25 percent in areas where change was not detected. Change is defined as polygons that recieved a classification change and does not include polygons that only received geometric editing during the update process. Points selected \"near change\" were constrained to fall within a 1,000 foot buffer adjacent to the change polygons. Points selected in unchanged areas were constrained to any area outside of where change was detected. The accuracy analysis was completed using QGIS v3.4.13. Accuracy assesment points were selected by first exporting each stratification layer as a distinct shapefile. Random points within each stratum were generated using a custom tool written in the R programming language. Each point was assessed for classification or change/no change against the finalized dataset compiled for each Block. The classification information was stripped from this dataset to ensure an unbiased assesment. ",
 "name": "RIDEM/IMG_Impervious",
 "description": "Task Overview: NV5 Geospatial updated the Rhode Island impervious data layer through semi-automated methods similar to that developed for the 2011 impervious layer and as accepted by RI Statewide Planning/RI GIS. Update methods used Rhode Island spring 2020, 4-band, 6-inch pixel orthophotography. The State of Rhode Island determined that only real changes between the 2011 and 2020 imagery should be mapped. Errors in the data set were not corrected (unless they were directly associated with a real change) as this would skew change analysis. The minimum mapping unit used for this data layer was 800 square feet. The update process began by creating a machine learning model based on the 2011 impervious data layer. The model was trained on Rhode Island spring 2011, 4-band, 6-inch pixel orthophotography and 2011 2 feet pixel impervious data layer. The machine model is a modified UNET convolutional neural network model. After the machine learning model was trained using 400,000 examples the model was applied to the 2020, 4-band, 6-inch pixel orthophotography. Then changes were detected between the 2011 impervious data layer and the 2020 impervious data layer using a semi-automated process. The changed area was then inspected by a photo interpreter to ensure greater than 95% accuracy and proper look and feel of the data. After the changed area was inspected it was then used to update the 2011 impervious data layer. Areas that were unchanged have not been modified. Validation Overview: For Blocks 1-5, a total of 2500 points were sampled. Of these 2500 points, 50 percent were constrained to fall within polygons defined as having change present, 25 percent near change, and 25 percent in areas where change was not detected. Change is defined as polygons that recieved a classification change and does not include polygons that only received geometric editing during the update process. Points selected \"near change\" were constrained to fall within a 1,000 foot buffer adjacent to the change polygons. Points selected in unchanged areas were constrained to any area outside of where change was detected. The accuracy analysis was completed using QGIS v3.4.13. Accuracy assesment points were selected by first exporting each stratification layer as a distinct shapefile. Random points within each stratum were generated using a custom tool written in the R programming language. Each point was assessed for classification or change/no change against the finalized dataset compiled for each Block. The classification information was stripped from this dataset to ensure an unbiased assesment. ",
 "extent": {
  "xmin": 220000,
  "ymin": 23047.995586417615,
  "xmax": 434592,
  "ymax": 343507.9955864176,
  "spatialReference": {
   "wkt": "PROJCS[\"North_American_1983_Transverse_Mercator\",GEOGCS[\"GCS_North_American_1983\",DATUM[\"D_North_American_1983\",SPHEROID[\"GRS_1980\",6378137.0,298.257222101]],PRIMEM[\"Greenwich\",0.0],UNIT[\"Degree\",0.0174532925199433]],PROJECTION[\"Transverse_Mercator\"],PARAMETER[\"false_easting\",328083.3333],PARAMETER[\"false_northing\",0.0],PARAMETER[\"central_meridian\",-71.5],PARAMETER[\"scale_factor\",0.99999375],PARAMETER[\"latitude_of_origin\",41.0833333333333],UNIT[\"Foot_US\",0.3048006096012192]]"
  }
 },
 "initialExtent": {
  "xmin": 220000,
  "ymin": 23047.995586417615,
  "xmax": 434592,
  "ymax": 343507.9955864176,
  "spatialReference": {
   "wkt": "PROJCS[\"North_American_1983_Transverse_Mercator\",GEOGCS[\"GCS_North_American_1983\",DATUM[\"D_North_American_1983\",SPHEROID[\"GRS_1980\",6378137.0,298.257222101]],PRIMEM[\"Greenwich\",0.0],UNIT[\"Degree\",0.0174532925199433]],PROJECTION[\"Transverse_Mercator\"],PARAMETER[\"false_easting\",328083.3333],PARAMETER[\"false_northing\",0.0],PARAMETER[\"central_meridian\",-71.5],PARAMETER[\"scale_factor\",0.99999375],PARAMETER[\"latitude_of_origin\",41.0833333333333],UNIT[\"Foot_US\",0.3048006096012192]]"
  }
 },
 "fullExtent": {
  "xmin": 220000,
  "ymin": 23047.995586417615,
  "xmax": 434592,
  "ymax": 343507.9955864176,
  "spatialReference": {
   "wkt": "PROJCS[\"North_American_1983_Transverse_Mercator\",GEOGCS[\"GCS_North_American_1983\",DATUM[\"D_North_American_1983\",SPHEROID[\"GRS_1980\",6378137.0,298.257222101]],PRIMEM[\"Greenwich\",0.0],UNIT[\"Degree\",0.0174532925199433]],PROJECTION[\"Transverse_Mercator\"],PARAMETER[\"false_easting\",328083.3333],PARAMETER[\"false_northing\",0.0],PARAMETER[\"central_meridian\",-71.5],PARAMETER[\"scale_factor\",0.99999375],PARAMETER[\"latitude_of_origin\",41.0833333333333],UNIT[\"Foot_US\",0.3048006096012192]]"
  }
 },
 "pixelSizeX": 2,
 "pixelSizeY": 2,
 "bandCount": 1,
 "pixelType": "F32",
 "minPixelSize": 0,
 "maxPixelSize": 0,
 "copyrightText": "RI Department of Administration, Division of Statewide Planning; USGS, University of Rhode Island",
 "serviceDataType": "esriImageServiceDataTypeGeneric",
 "minValues": [
  0
 ],
 "maxValues": [
  1
 ],
 "meanValues": [
  0.1315775363212458
 ],
 "stdvValues": [
  0.33803089839749356
 ],
 "objectIdField": "",
 "fields": [],
 "capabilities": "Image,Metadata,Mensuration",
 "defaultMosaicMethod": "Center",
 "allowedMosaicMethods": "",
 "sortField": "",
 "sortValue": null,
 "mosaicOperator": "First",
 "defaultCompressionQuality": 75,
 "defaultResamplingMethod": "Bilinear",
 "maxImageHeight": 4100,
 "maxImageWidth": 15000,
 "allowRasterFunction": true,
 "rasterFunctionInfos": [
  {
   "name": "None",
   "description": "",
   "help": ""
  }
 ],
 "rasterTypeInfos": [
  {
   "name": "Raster Dataset",
   "description": "Supports all ArcGIS Raster Datasets",
   "help": ""
  }
 ],
 "mensurationCapabilities": "Basic",
 "hasHistograms": true,
 "hasColormap": false,
 "hasRasterAttributeTable": false,
 "minScale": 0,
 "maxScale": 0,
 "exportTilesAllowed": false,
 "hasMultidimensions": false,
 "supportsStatistics": false,
 "supportsAdvancedQueries": false,
 "editFieldsInfo": null,
 "ownershipBasedAccessControlForRasters": null,
 "allowComputeTiePoints": false,
 "useStandardizedQueries": true,
 "advancedQueryCapabilities": {
  "useStandardizedQueries": true,
  "supportsStatistics": false,
  "supportsOrderBy": false,
  "supportsDistinct": false,
  "supportsPagination": false
 },
 "spatialReference": {
  "wkt": "PROJCS[\"North_American_1983_Transverse_Mercator\",GEOGCS[\"GCS_North_American_1983\",DATUM[\"D_North_American_1983\",SPHEROID[\"GRS_1980\",6378137.0,298.257222101]],PRIMEM[\"Greenwich\",0.0],UNIT[\"Degree\",0.0174532925199433]],PROJECTION[\"Transverse_Mercator\"],PARAMETER[\"false_easting\",328083.3333],PARAMETER[\"false_northing\",0.0],PARAMETER[\"central_meridian\",-71.5],PARAMETER[\"scale_factor\",0.99999375],PARAMETER[\"latitude_of_origin\",41.0833333333333],UNIT[\"Foot_US\",0.3048006096012192]]"
 }
}
