{
 "currentVersion": 10.71,
 "serviceDescription": "Flood Elevation Plus 3",
 "name": "RIDEM/WWTF_FloodElevPlus3",
 "description": "Flood Elevation Plus 3",
 "extent": {
  "xmin": 211045.37482862896,
  "ymin": 20026.250165187346,
  "xmax": 438905.37482862896,
  "ymax": 347486.25016518735,
  "spatialReference": {
   "wkid": 102730,
   "latestWkid": 3438,
   "vcsWkid": 105703,
   "latestVcsWkid": 6360
  }
 },
 "initialExtent": {
  "xmin": 211045.37482862896,
  "ymin": 20026.250165187346,
  "xmax": 438905.37482862896,
  "ymax": 347486.25016518735,
  "spatialReference": {
   "wkid": 102730,
   "latestWkid": 3438,
   "vcsWkid": 105703,
   "latestVcsWkid": 6360
  }
 },
 "fullExtent": {
  "xmin": 211045.37482862896,
  "ymin": 20026.250165187346,
  "xmax": 438905.37482862896,
  "ymax": 347486.25016518735,
  "spatialReference": {
   "wkid": 102730,
   "latestWkid": 3438,
   "vcsWkid": 105703,
   "latestVcsWkid": 6360
  }
 },
 "heightModelInfo": {
  "heightModel": "gravity_related_height",
  "vertCRS": "NAVD_1988_Foot_US",
  "heightUnit": "us-foot"
 },
 "pixelSizeX": 10,
 "pixelSizeY": 10,
 "bandCount": 1,
 "pixelType": "S16",
 "minPixelSize": 0,
 "maxPixelSize": 0,
 "copyrightText": "RIDEM",
 "serviceDataType": "esriImageServiceDataTypeGeneric",
 "minValues": [
  -3
 ],
 "maxValues": [
  649
 ],
 "meanValues": [
  194.72437739113366
 ],
 "stdvValues": [
  156.28215829747472
 ],
 "objectIdField": "",
 "fields": [],
 "capabilities": "Image,Metadata,Mensuration",
 "defaultMosaicMethod": "Center",
 "allowedMosaicMethods": "",
 "sortField": "",
 "sortValue": null,
 "mosaicOperator": "First",
 "defaultCompressionQuality": 75,
 "defaultResamplingMethod": "Bilinear",
 "maxImageHeight": 4100,
 "maxImageWidth": 15000,
 "allowRasterFunction": true,
 "rasterFunctionInfos": [
  {
   "name": "None",
   "description": "",
   "help": ""
  }
 ],
 "rasterTypeInfos": [
  {
   "name": "Raster Dataset",
   "description": "Supports all ArcGIS Raster Datasets",
   "help": ""
  }
 ],
 "mensurationCapabilities": "Basic",
 "hasHistograms": true,
 "hasColormap": false,
 "hasRasterAttributeTable": false,
 "minScale": 0,
 "maxScale": 0,
 "exportTilesAllowed": false,
 "hasMultidimensions": false,
 "supportsStatistics": false,
 "supportsAdvancedQueries": false,
 "editFieldsInfo": null,
 "ownershipBasedAccessControlForRasters": null,
 "allowComputeTiePoints": false,
 "useStandardizedQueries": true,
 "advancedQueryCapabilities": {
  "useStandardizedQueries": true,
  "supportsStatistics": false,
  "supportsOrderBy": false,
  "supportsDistinct": false,
  "supportsPagination": false
 },
 "spatialReference": {
  "wkid": 102730,
  "latestWkid": 3438,
  "vcsWkid": 105703,
  "latestVcsWkid": 6360
 }
}
