View In:
ArcGIS JavaScript
ArcGIS Online Map Viewer
ArcGIS Earth
ArcMap
View Footprint In:
ArcGIS Online Map Viewer
Service Description: This is the Imagery Service for Elevation in Rhode Island. 2023
Name: RIDEM/IMG_Elevation
Description: This is the Imagery Service for Elevation in Rhode Island. 2023
Single Fused Map Cache: false
Extent:
XMin: 211045.37482862896
YMin: 20029.555999524368
XMax: 438909.09232792817
YMax: 347486.250165184
Spatial Reference: 102730
(3438)
Initial Extent:
XMin: 211045.37482862896
YMin: 20029.555999524368
XMax: 438909.09232792817
YMax: 347486.250165184
Spatial Reference: 102730
(3438)
Full Extent:
XMin: 211045.37482862896
YMin: 20029.555999524368
XMax: 438909.09232792817
YMax: 347486.250165184
Spatial Reference: 102730
(3438)
Pixel Size X: 3.280833333323243
Pixel Size Y: 3.280833333323244
Band Count: 1
Pixel Type: F32
RasterFunction Infos: {"rasterFunctionInfos": [{
"name": "None",
"description": "",
"help": ""
}]}
Mensuration Capabilities: Basic
Has Histograms: true
Has Colormap: false
Has Multi Dimensions : false
Rendering Rule:
Min Scale: 0
Max Scale: 0
Copyright Text: RIDEM RISEGIS
Service Data Type: esriImageServiceDataTypeGeneric
Min Values: -8.796842575073242
Max Values: 811.7964477539062
Mean Values: 234.1992540100419
Standard Deviation Values: 189.42213320394092
Object ID Field:
Fields:
None
Default Mosaic Method: Center
Allowed Mosaic Methods:
SortField:
SortValue: null
Mosaic Operator: First
Default Compression Quality: 75
Default Resampling Method: Bilinear
Max Record Count: null
Max Image Height: 4100
Max Image Width: 15000
Max Download Image Count: null
Max Mosaic Image Count: null
Allow Raster Function: true
Allow Compute TiePoints: false
Supports Statistics: false
Supports Advanced Queries: false
Use StandardizedQueries: true
Raster Type Infos:
Name: Raster Dataset
Description: Supports all ArcGIS Raster Datasets
Help:
Has Raster Attribute Table: false
Edit Fields Info: null
Ownership Based AccessControl For Rasters: null
Child Resources:
Info
Histograms
Key Properties
Legend
MultiDimensionalInfo
rasterFunctionInfos
Supported Operations:
Export Image
Identify
Measure
Compute Histograms
Compute Statistics Histograms
Get Samples
Compute Class Statistics
Query Boundary
Compute Pixel Location