View In:
ArcGIS JavaScript
ArcGIS Online Map Viewer
ArcGIS Earth
ArcMap
View Footprint In:
ArcGIS Online Map Viewer
Service Description: This is the Imagery Service for HillShades in Rhode Island 2023. Created by RIDEM
Name: RIDEM/IMG_HillShades
Description: This is the Imagery Service for HillShades in Rhode Island 2023. Created by RIDEM
Single Fused Map Cache: false
Extent:
XMin: 211045.37482862896
YMin: 20029.55599952425
XMax: 438909.09232792817
YMax: 347486.2501651839
Spatial Reference: 102730
(3438)
Initial Extent:
XMin: 211045.37482862896
YMin: 20029.55599952425
XMax: 438909.09232792817
YMax: 347486.2501651839
Spatial Reference: 102730
(3438)
Full Extent:
XMin: 211045.37482862896
YMin: 20029.55599952425
XMax: 438909.09232792817
YMax: 347486.2501651839
Spatial Reference: 102730
(3438)
Pixel Size X: 3.280833333323243
Pixel Size Y: 3.280833333323244
Band Count: 1
Pixel Type: U8
RasterFunction Infos: {"rasterFunctionInfos": [{
"name": "None",
"description": "",
"help": ""
}]}
Mensuration Capabilities: Basic
Has Histograms: true
Has Colormap: false
Has Multi Dimensions : false
Rendering Rule:
Min Scale: 0
Max Scale: 0
Copyright Text: RIDEM RISEGIS
Service Data Type: esriImageServiceDataTypeGeneric
Min Values: 0
Max Values: 254
Mean Values: 178.2196451228292
Standard Deviation Values: 14.26981306360694
Object ID Field:
Fields:
None
Default Mosaic Method: Center
Allowed Mosaic Methods:
SortField:
SortValue: null
Mosaic Operator: First
Default Compression Quality: 75
Default Resampling Method: Bilinear
Max Record Count: null
Max Image Height: 4100
Max Image Width: 15000
Max Download Image Count: null
Max Mosaic Image Count: null
Allow Raster Function: true
Allow Compute TiePoints: false
Supports Statistics: false
Supports Advanced Queries: false
Use StandardizedQueries: true
Raster Type Infos:
Name: Raster Dataset
Description: Supports all ArcGIS Raster Datasets
Help:
Has Raster Attribute Table: true
Edit Fields Info: null
Ownership Based AccessControl For Rasters: null
Child Resources:
Info
Raster Attribute Table
Histograms
Key Properties
Legend
MultiDimensionalInfo
rasterFunctionInfos
Supported Operations:
Export Image
Identify
Measure
Compute Histograms
Compute Statistics Histograms
Get Samples
Compute Class Statistics
Query Boundary
Compute Pixel Location