View In:
ArcGIS JavaScript
ArcGIS Online Map Viewer
ArcGIS Earth
ArcMap
View Footprint In:
ArcGIS Online Map Viewer
Service Description: Flood Elevation Plus 3
Name: RIDEM/WWTF_FloodElevPlus3
Description: Flood Elevation Plus 3
Single Fused Map Cache: false
Extent:
XMin: 211045.37482862896
YMin: 20026.250165187346
XMax: 438905.37482862896
YMax: 347486.25016518735
Spatial Reference: 102730
(3438)
VCSWkid(105703)
LatestVCSWkid(6360)
Initial Extent:
XMin: 211045.37482862896
YMin: 20026.250165187346
XMax: 438905.37482862896
YMax: 347486.25016518735
Spatial Reference: 102730
(3438)
VCSWkid(105703)
LatestVCSWkid(6360)
Full Extent:
XMin: 211045.37482862896
YMin: 20026.250165187346
XMax: 438905.37482862896
YMax: 347486.25016518735
Spatial Reference: 102730
(3438)
VCSWkid(105703)
LatestVCSWkid(6360)
Pixel Size X: 10.0
Pixel Size Y: 10.0
Band Count: 1
Pixel Type: S16
RasterFunction Infos: {"rasterFunctionInfos": [{
"name": "None",
"description": "",
"help": ""
}]}
Mensuration Capabilities: Basic
Has Histograms: true
Has Colormap: false
Has Multi Dimensions : false
Rendering Rule:
Min Scale: 0
Max Scale: 0
Copyright Text: RIDEM
Service Data Type: esriImageServiceDataTypeGeneric
Min Values: -3
Max Values: 649
Mean Values: 194.72437739113366
Standard Deviation Values: 156.28215829747472
Object ID Field:
Fields:
None
Default Mosaic Method: Center
Allowed Mosaic Methods:
SortField:
SortValue: null
Mosaic Operator: First
Default Compression Quality: 75
Default Resampling Method: Bilinear
Max Record Count: null
Max Image Height: 4100
Max Image Width: 15000
Max Download Image Count: null
Max Mosaic Image Count: null
Allow Raster Function: true
Allow Compute TiePoints: false
Supports Statistics: false
Supports Advanced Queries: false
Use StandardizedQueries: true
Raster Type Infos:
Name: Raster Dataset
Description: Supports all ArcGIS Raster Datasets
Help:
Has Raster Attribute Table: false
Edit Fields Info: null
Ownership Based AccessControl For Rasters: null
Child Resources:
Info
Histograms
Key Properties
Legend
MultiDimensionalInfo
rasterFunctionInfos
Supported Operations:
Export Image
Identify
Measure
Compute Histograms
Compute Statistics Histograms
Get Samples
Compute Class Statistics
Query Boundary
Compute Pixel Location